BEGIN:VCALENDAR
VERSION:2.0
PRODID:-//AFairchild CPA - ECPv6.15.20//NONSGML v1.0//EN
CALSCALE:GREGORIAN
METHOD:PUBLISH
X-WR-CALNAME:AFairchild CPA
X-ORIGINAL-URL:https://afairchildcpa.com
X-WR-CALDESC:Events for AFairchild CPA
REFRESH-INTERVAL;VALUE=DURATION:PT1H
X-Robots-Tag:noindex
X-PUBLISHED-TTL:PT1H
BEGIN:VTIMEZONE
TZID:UTC
BEGIN:STANDARD
TZOFFSETFROM:+0000
TZOFFSETTO:+0000
TZNAME:UTC
DTSTART:20250101T000000
END:STANDARD
END:VTIMEZONE
BEGIN:VEVENT
DTSTART;TZID=UTC:20260519T113000
DTEND;TZID=UTC:20260519T130000
DTSTAMP:20260420T011306
CREATED:20250707T235905Z
LAST-MODIFIED:20260414T143241Z
UID:2370-1779190200-1779195600@afairchildcpa.com
SUMMARY:AFairchild Executive Luncheon
DESCRIPTION: [ \n\nAbout the Event\n\nAFairchild LLC invites nonprofit leaders and decision makers to a complimentary Non‑Profit Leadership Lunch & Learn designed to provide meaningful financial\, operational\, and strategic insights for mission‑driven organizations\nThis Lunch & Learn is designed for nonprofit professionals who play a role in leadership\, financial stewardship\, or operational decision‑making. Attendees will benefit most if they are responsible for guiding strategy\, overseeing finances\, or supporting the long‑term sustainability of a mission‑driven organization.\n \n\nExecutive directors and nonprofit leadership\nBoard members and finance committee members\nOperations and administrative leaders\nAnyone involved in financial oversight or organizational planning\n\n \nWhy Attend? \nSeats are limited — secure your spot today and take a step toward smarter business success.
URL:https://afairchildcpa.com/event/afairchild-executive-luncheon/
LOCATION:The Hope Center\, 2001 W Plano Parkway\, Plano\, TX\, 75075\, United States
ORGANIZER;CN="AFairchild CPA":MAILTO:Rachel.Strait@afairchildcpa.com
END:VEVENT
END:VCALENDAR